BEGIN:VCALENDAR
VERSION:2.0
PRODID:-//wp-events-plugin.com//7.2.3.1//EN
TZID:America/New_York
X-WR-TIMEZONE:America/New_York
BEGIN:VEVENT
UID:338@cndf.qc.ca
DTSTART;TZID=America/New_York:20241110T120000
DTEND;TZID=America/New_York:20241110T143000
DTSTAMP:20241105T010920Z
URL:https://www.cndf.qc.ca/rugby-feminin-finales-regionales-novembre-2024/
SUMMARY:Finales régionales au CNDF : Cégep de Beauce-Appalaches c. Notre-
 Dame
DESCRIPTION:La finale régionale du RSEQ en rugby féminin à 12 au niveau 
 collégial mettra aux prises les Condors du Cégep de Beauce-Appalaches co
 ntre le Notre-Dame du CNDF. Préparez-vous à un match physique et enlevan
 t!
ATTACH;FMTTYPE=image/jpeg:https://www.cndf.qc.ca/wp-content/uploads/2024/0
 5/rugby-feminin-notre-dame-2023.jpg
CATEGORIES:Rugby,Rugby féminin à 12,Sports
END:VEVENT
BEGIN:VTIMEZONE
TZID:America/New_York
X-LIC-LOCATION:America/New_York
BEGIN:STANDARD
DTSTART:20241103T010000
TZOFFSETFROM:-0400
TZOFFSETTO:-0500
TZNAME:EST
END:STANDARD
END:VTIMEZONE
END:VCALENDAR